BEGIN:VCALENDAR
PRODID:-//HH//NONSGML Cascade Server//EN
VERSION:2.0
X-WR-CALNAME:Career Compass Workshop: Navigating Offers
X-WR-TIMEZONE:America/Chicago
X-WR-CALDESC:Career Compass: Professional Development Workshop Event
BEGIN:VTIMEZONE
TZID:America/Chicago
BEGIN:DAYLIGHT
TZOFFSETFROM:-0500
TZOFFSETTO:-0400
TZNAME:EDT
DTSTART:19700308T020000
RRULE:FREQ=YEARLY;BYMONTH=3;BYDAY=2SU
END:DAYLIGHT
BEGIN:STANDARD
TZOFFSETFROM:-0400
TZOFFSETTO:-0500
TZNAME:CST
DTSTART:19701101T020000
RRULE:FREQ=YEARLY;BYMONTH=11;BYDAY=1SU
END:STANDARD
END:VTIMEZONE
BEGIN:VEVENT
DTSTART:20260420T123000
DTEND:20260420T133000
DTSTAMP:20260419T005025
UID:c256cf1881736a2d739ae9acf1006ef5
CREATED:20260115T094707
DESCRIPTION:Career Compass Workshop: Navigating Offers
LAST-MODIFIED:20260115T094809
LOCATION:BB 1.01.20L
SEQUENCE:0
STATUS:CONFIRMED
SUMMARY:Career Compass Workshop: Navigating Offers
TRANSP:OPAQUE
END:VEVENT
END:VCALENDAR
