BEGIN:VCALENDAR
PRODID:-//HH//NONSGML Cascade Server//EN
VERSION:2.0
X-WR-CALNAME:Peer Coach Career Compass Workshop: Using AI to Prepare with Confidence: T
 urn Job Postings into Interview Practice
X-WR-TIMEZONE:America/Chicago
X-WR-CALDESC:Career Compass: Professional Development Workshop Event
BEGIN:VTIMEZONE
TZID:America/Chicago
BEGIN:DAYLIGHT
TZOFFSETFROM:-0500
TZOFFSETTO:-0400
TZNAME:EDT
DTSTART:19700308T020000
RRULE:FREQ=YEARLY;BYMONTH=3;BYDAY=2SU
END:DAYLIGHT
BEGIN:STANDARD
TZOFFSETFROM:-0400
TZOFFSETTO:-0500
TZNAME:CST
DTSTART:19701101T020000
RRULE:FREQ=YEARLY;BYMONTH=11;BYDAY=1SU
END:STANDARD
END:VTIMEZONE
BEGIN:VEVENT
DTSTART:20260423T150000
DTEND:20260423T160000
DTSTAMP:20260423T004739
UID:26708ad081736a2d147710e4bab9f5be
CREATED:20260325T142002
DESCRIPTION:Peer Coach Career Compass Workshop: Using AI to Prepare with C
 onfidence: Turn Job Postings into Interview Practice\n
LAST-MODIFIED:20260325T142621
LOCATION:
SEQUENCE:0
STATUS:CONFIRMED
SUMMARY:Peer Coach Career Compass Workshop: Using AI to Prepare with Confi
 dence: Turn Job Postings into Interview Practice
TRANSP:OPAQUE
END:VEVENT
END:VCALENDAR
