BEGIN:VCALENDAR
PRODID:-//HH//NONSGML Cascade Server//EN
VERSION:2.0
X-WR-CALNAME:Management Research Seminar
X-WR-TIMEZONE:America/Chicago
X-WR-CALDESC:
BEGIN:VTIMEZONE
TZID:America/Chicago
BEGIN:DAYLIGHT
TZOFFSETFROM:-0500
TZOFFSETTO:-0400
TZNAME:EDT
DTSTART:19700308T020000
RRULE:FREQ=YEARLY;BYMONTH=3;BYDAY=2SU
END:DAYLIGHT
BEGIN:STANDARD
TZOFFSETFROM:-0400
TZOFFSETTO:-0500
TZNAME:CST
DTSTART:19701101T020000
RRULE:FREQ=YEARLY;BYMONTH=11;BYDAY=1SU
END:STANDARD
END:VTIMEZONE
BEGIN:VEVENT
DTSTART:20260417T103000
DTEND:20260417T120000
DTSTAMP:20260419T005111
UID:8d4da77581736a2d147710e4aed08c45
CREATED:20260414T134249
DESCRIPTION:Guest Speaker Dr. In-Sue Oh
LAST-MODIFIED:20260414T162901
LOCATION: BB 1.01.20D
SEQUENCE:0
STATUS:CONFIRMED
SUMMARY:Management Research Seminar
TRANSP:OPAQUE
END:VEVENT
END:VCALENDAR
