BEGIN:VCALENDAR
PRODID:-//HH//NONSGML Cascade Server//EN
VERSION:2.0
X-WR-CALNAME:Coffee & Career Conversations
X-WR-TIMEZONE:America/Chicago
X-WR-CALDESC:Employer-hosted Coffee & Career Conversations On Campus
BEGIN:VTIMEZONE
TZID:America/Chicago
BEGIN:DAYLIGHT
TZOFFSETFROM:-0500
TZOFFSETTO:-0400
TZNAME:EDT
DTSTART:19700308T020000
RRULE:FREQ=YEARLY;BYMONTH=3;BYDAY=2SU
END:DAYLIGHT
BEGIN:STANDARD
TZOFFSETFROM:-0400
TZOFFSETTO:-0500
TZNAME:CST
DTSTART:19701101T020000
RRULE:FREQ=YEARLY;BYMONTH=11;BYDAY=1SU
END:STANDARD
END:VTIMEZONE
BEGIN:VEVENT
DTSTART:20260303T090000
DTEND:20260303T110000
DTSTAMP:20260421T004305
UID:be7037f281736a2d739ae9aca99baeee
CREATED:20260114T153623
DESCRIPTION:Meet with a representative from CliftonLarsonAllen
LAST-MODIFIED:20260209T153613
LOCATION:BB 2.01.08 - Alvarez Student Success Center
SEQUENCE:0
STATUS:CONFIRMED
SUMMARY:Coffee & Career Conversations
TRANSP:OPAQUE
END:VEVENT
END:VCALENDAR
