BEGIN:VCALENDAR
PRODID:-//HH//NONSGML Cascade Server//EN
VERSION:2.0
X-WR-CALNAME:Spring 2026 STEM Career Expo
X-WR-TIMEZONE:America/Chicago
X-WR-CALDESC:UTSA Fall 2025 STEM Career Expo hosted on main campus
BEGIN:VTIMEZONE
TZID:America/Chicago
BEGIN:DAYLIGHT
TZOFFSETFROM:-0500
TZOFFSETTO:-0400
TZNAME:EDT
DTSTART:19700308T020000
RRULE:FREQ=YEARLY;BYMONTH=3;BYDAY=2SU
END:DAYLIGHT
BEGIN:STANDARD
TZOFFSETFROM:-0400
TZOFFSETTO:-0500
TZNAME:CST
DTSTART:19701101T020000
RRULE:FREQ=YEARLY;BYMONTH=11;BYDAY=1SU
END:STANDARD
END:VTIMEZONE
BEGIN:VEVENT
DTSTART:20260203T140000
DTEND:20260203T180000
DTSTAMP:20260419T003621
UID:dc4eefd881736a2d739ae9ac0f10b6fa
CREATED:20260120T104839
DESCRIPTION:Spring 2026 STEM Career Expo
LAST-MODIFIED:20260130T101115
LOCATION:H-E-B Ballroom 1 and 2
SEQUENCE:0
STATUS:CONFIRMED
SUMMARY:Spring 2026 STEM Career Expo
TRANSP:OPAQUE
END:VEVENT
END:VCALENDAR
