BEGIN:VCALENDAR
PRODID:-//HH//NONSGML Cascade Server//EN
VERSION:2.0
X-WR-CALNAME:Rowdy Recruiting - Accounting
X-WR-TIMEZONE:America/Chicago
X-WR-CALDESC:Employer-hosted recruitment event for business students
BEGIN:VTIMEZONE
TZID:America/Chicago
BEGIN:DAYLIGHT
TZOFFSETFROM:-0500
TZOFFSETTO:-0400
TZNAME:EDT
DTSTART:19700308T020000
RRULE:FREQ=YEARLY;BYMONTH=3;BYDAY=2SU
END:DAYLIGHT
BEGIN:STANDARD
TZOFFSETFROM:-0400
TZOFFSETTO:-0500
TZNAME:CST
DTSTART:19701101T020000
RRULE:FREQ=YEARLY;BYMONTH=11;BYDAY=1SU
END:STANDARD
END:VTIMEZONE
BEGIN:VEVENT
DTSTART:20250930T170000
DTEND:20250930T180000
DTSTAMP:20260420T005640
UID:c07f8e4d81736a2d22bb13141fe706fe
CREATED:20250818T230401
DESCRIPTION:Meet with representatives from ATKG Advisors\, LLC
LAST-MODIFIED:20251021T090024
LOCATION:Classroom - BB 2.01.06
SEQUENCE:0
STATUS:CONFIRMED
SUMMARY:Rowdy Recruiting - Accounting
TRANSP:OPAQUE
END:VEVENT
END:VCALENDAR
