BEGIN:VCALENDAR
PRODID:-//HH//NONSGML Cascade Server//EN
VERSION:2.0
X-WR-CALNAME:Rowdy Recruiting - Vanguard
X-WR-TIMEZONE:America/Chicago
X-WR-CALDESC:Recruiting event hosted by the UTSA Carlos Alvarez College of
  Business.
BEGIN:VTIMEZONE
TZID:America/Chicago
BEGIN:DAYLIGHT
TZOFFSETFROM:-0500
TZOFFSETTO:-0400
TZNAME:EDT
DTSTART:19700308T020000
RRULE:FREQ=YEARLY;BYMONTH=3;BYDAY=2SU
END:DAYLIGHT
BEGIN:STANDARD
TZOFFSETFROM:-0400
TZOFFSETTO:-0500
TZNAME:CST
DTSTART:19701101T020000
RRULE:FREQ=YEARLY;BYMONTH=11;BYDAY=1SU
END:STANDARD
END:VTIMEZONE
BEGIN:VEVENT
DTSTART:20240228T110000
DTEND:20240228T120000
DTSTAMP:20240228T003625
UID:e9c1129781736a2d2b8777b2e29ebe49
CREATED:20240108T094633
DESCRIPTION:Rowdy Recruiting - Vanguard
LAST-MODIFIED:20240208T155245
LOCATION:
SEQUENCE:0
STATUS:CONFIRMED
SUMMARY:Rowdy Recruiting - Vanguard
TRANSP:OPAQUE
END:VEVENT
END:VCALENDAR
